BEGIN:VCALENDAR
VERSION:2.0
PRODID:-//www.gramonet.cz//GramonetCalLib 1.0//EN
CALSCALE:GREGORIAN
METHOD:PUBLISH
BEGIN:VEVENT
SUMMARY:Pub Quiz No.12 - Grand Open Air
LOCATION:Gumárna, K. Pazderského 2045
DTSTART:20220618T000000
DTEND:20220619T000000
UID:2026-04-19-19-34-40@infocaslav.cz
DTSTAMP:20260419T173440
Description:
END:VEVENT
END:VCALENDAR
