BEGIN:VCALENDAR
VERSION:2.0
PRODID:-//www.gramonet.cz//GramonetCalLib 1.0//EN
CALSCALE:GREGORIAN
METHOD:PUBLISH
BEGIN:VEVENT
SUMMARY:Pub Quiz No.2
LOCATION:Gumárna
DTSTART:20221008T000000
DTEND:20221009T000000
UID:2026-04-19-19-30-04@infocaslav.cz
DTSTAMP:20260419T173004
Description:
END:VEVENT
END:VCALENDAR
