BEGIN:VCALENDAR
VERSION:2.0
PRODID:-//www.gramonet.cz//GramonetCalLib 1.0//EN
CALSCALE:GREGORIAN
METHOD:PUBLISH
BEGIN:VEVENT
SUMMARY:PUNC
LOCATION:Ronov nad Doubravou
DTSTART:20240615T000000
DTEND:20240616T000000
UID:2026-04-19-19-28-38@infocaslav.cz
DTSTAMP:20260419T172838
Description:Ronov nad Doubravou Vás srdečně zve na taneční zábavu kap
 ely PUNC dne 15. 6 . 2024 v klubovně skautů.
END:VEVENT
END:VCALENDAR
