BEGIN:VCALENDAR
VERSION:2.0
PRODID:-//www.gramonet.cz//GramonetCalLib 1.0//EN
CALSCALE:GREGORIAN
METHOD:PUBLISH
BEGIN:VEVENT
SUMMARY:PUNC
LOCATION:Pivnice Na Čeplově
DTSTART:20240524T000000
DTEND:20240525T000000
UID:2026-04-19-19-28-48@infocaslav.cz
DTSTAMP:20260419T172848
Description:Dne 24.5.2024 od 18 hodin se uskuteční PUNC NIGHT ROCK.
END:VEVENT
END:VCALENDAR
