BEGIN:VCALENDAR
VERSION:2.0
PRODID:-//www.gramonet.cz//GramonetCalLib 1.0//EN
CALSCALE:GREGORIAN
METHOD:PUBLISH
BEGIN:VEVENT
SUMMARY:PURIMOVÝ KONCERT n.f. Dr. DAGMAR LIEBLOVÉ
LOCATION:Nová scéna Dusíkova divadla
DTSTART:20220325T000000
DTEND:20220326T000000
UID:2026-04-19-21-07-17@infocaslav.cz
DTSTAMP:20260419T190717
Description:
END:VEVENT
END:VCALENDAR
