BEGIN:VCALENDAR
VERSION:2.0
PRODID:-//www.gramonet.cz//GramonetCalLib 1.0//EN
CALSCALE:GREGORIAN
METHOD:PUBLISH
BEGIN:VEVENT
SUMMARY:Putování Šternberskou historíí
LOCATION:Hrad Český Šternberk
DTSTART:20231021T000000
DTEND:20231023T000000
UID:2026-04-19-19-33-56@infocaslav.cz
DTSTAMP:20260419T173356
Description:Správa hradu Český Šternberk vás srdečně zve na 15. roč
 ník PUTOVÁNÍ ŠTERNBERSKOU HISTORIÍ
END:VEVENT
END:VCALENDAR
