BEGIN:VCALENDAR
VERSION:2.0
PRODID:-//www.gramonet.cz//GramonetCalLib 1.0//EN
CALSCALE:GREGORIAN
METHOD:PUBLISH
BEGIN:VEVENT
SUMMARY:Radniční adventní koncert
LOCATION:budova radnice
DTSTART:20251214T000000
DTEND:20251215T000000
UID:2026-04-19-19-26-40@infocaslav.cz
DTSTAMP:20260419T172640
Description:
END:VEVENT
END:VCALENDAR
