BEGIN:VCALENDAR
VERSION:2.0
PRODID:-//www.gramonet.cz//GramonetCalLib 1.0//EN
CALSCALE:GREGORIAN
METHOD:PUBLISH
BEGIN:VEVENT
SUMMARY:Raego
LOCATION:Hotel Grand Čáslav
DTSTART:20251017T000000
DTEND:20251018T000000
UID:2026-04-19-20-57-37@infocaslav.cz
DTSTAMP:20260419T185737
Description:
END:VEVENT
END:VCALENDAR
