BEGIN:VCALENDAR
VERSION:2.0
PRODID:-//www.gramonet.cz//GramonetCalLib 1.0//EN
CALSCALE:GREGORIAN
METHOD:PUBLISH
BEGIN:VEVENT
SUMMARY:Ragnarock N´Roll Tour
LOCATION:Hotel Grand Čáslav
DTSTART:20231124T000000
DTEND:20231125T000000
UID:2026-04-19-21-03-25@infocaslav.cz
DTSTAMP:20260419T190325
Description:Ragnarock N´Roll Tour Cocotte Minute a Deloraine v hotelu Gran
 d.
END:VEVENT
END:VCALENDAR
