BEGIN:VCALENDAR
VERSION:2.0
PRODID:-//www.gramonet.cz//GramonetCalLib 1.0//EN
CALSCALE:GREGORIAN
METHOD:PUBLISH
BEGIN:VEVENT
SUMMARY:Rakeťák
LOCATION:Kino Miloše Formana, Jeníkovská 138/25, 28601
DTSTART:20220618T000000
DTEND:20220619T000000
UID:2026-04-19-20-57-36@infocaslav.cz
DTSTAMP:20260419T185736
Description:
END:VEVENT
END:VCALENDAR
