BEGIN:VCALENDAR
VERSION:2.0
PRODID:-//www.gramonet.cz//GramonetCalLib 1.0//EN
CALSCALE:GREGORIAN
METHOD:PUBLISH
BEGIN:VEVENT
SUMMARY:RC Kopretina - Tvoření s Luckou
LOCATION:Kostelní náměstí 186/2
DTSTART:20240404T000000
DTEND:20240426T000000
UID:2026-04-19-19-36-41@infocaslav.cz
DTSTAMP:20260419T173641
Description:
END:VEVENT
END:VCALENDAR
