BEGIN:VCALENDAR
VERSION:2.0
PRODID:-//www.gramonet.cz//GramonetCalLib 1.0//EN
CALSCALE:GREGORIAN
METHOD:PUBLISH
BEGIN:VEVENT
SUMMARY:Řepánkovy slavnosti
LOCATION:Kolínská řepařská drážka
DTSTART:20240928T000000
DTEND:20240930T000000
UID:2026-04-19-19-32-07@infocaslav.cz
DTSTAMP:20260419T173207
Description:
END:VEVENT
END:VCALENDAR
