BEGIN:VCALENDAR
VERSION:2.0
PRODID:-//www.gramonet.cz//GramonetCalLib 1.0//EN
CALSCALE:GREGORIAN
METHOD:PUBLISH
BEGIN:VEVENT
SUMMARY:Reprezentační ples OU
LOCATION:Frmol Tupadly
DTSTART:20220325T000000
DTEND:20220326T000000
UID:2026-04-19-19-32-55@infocaslav.cz
DTSTAMP:20260419T173255
Description:
END:VEVENT
END:VCALENDAR
