BEGIN:VCALENDAR
VERSION:2.0
PRODID:-//www.gramonet.cz//GramonetCalLib 1.0//EN
CALSCALE:GREGORIAN
METHOD:PUBLISH
BEGIN:VEVENT
SUMMARY:Retro Disco party
LOCATION:Hotel Grand Čáslav
DTSTART:20241214T000000
DTEND:20241215T000000
UID:2026-04-19-19-30-07@infocaslav.cz
DTSTAMP:20260419T173007
Description:
END:VEVENT
END:VCALENDAR
