BEGIN:VCALENDAR
VERSION:2.0
PRODID:-//www.gramonet.cz//GramonetCalLib 1.0//EN
CALSCALE:GREGORIAN
METHOD:PUBLISH
BEGIN:VEVENT
SUMMARY:Revolution train
LOCATION:Vlakové nádraží
DTSTART:20230411T000000
DTEND:20230412T000000
UID:2026-04-19-21-01-20@infocaslav.cz
DTSTAMP:20260419T190120
Description:
END:VEVENT
END:VCALENDAR
