BEGIN:VCALENDAR
VERSION:2.0
PRODID:-//www.gramonet.cz//GramonetCalLib 1.0//EN
CALSCALE:GREGORIAN
METHOD:PUBLISH
BEGIN:VEVENT
SUMMARY:Revolution train
LOCATION:vlaková stanice Čáslav
DTSTART:20220509T000000
DTEND:20220510T000000
UID:2026-04-19-19-28-41@infocaslav.cz
DTSTAMP:20260419T172841
Description:
END:VEVENT
END:VCALENDAR
