BEGIN:VCALENDAR
VERSION:2.0
PRODID:-//www.gramonet.cz//GramonetCalLib 1.0//EN
CALSCALE:GREGORIAN
METHOD:PUBLISH
BEGIN:VEVENT
SUMMARY:ROCK FEST II.
LOCATION:Pivovarská restaurace
DTSTART:20230729T000000
DTEND:20230730T000000
UID:2026-04-19-19-29-34@infocaslav.cz
DTSTAMP:20260419T172934
Description:
END:VEVENT
END:VCALENDAR
