BEGIN:VCALENDAR
VERSION:2.0
PRODID:-//www.gramonet.cz//GramonetCalLib 1.0//EN
CALSCALE:GREGORIAN
METHOD:PUBLISH
BEGIN:VEVENT
SUMMARY:ROCK FEST III
LOCATION:Areál pivovaru Čáslav
DTSTART:20240727T000000
DTEND:20240728T000000
UID:2026-04-19-19-29-56@infocaslav.cz
DTSTAMP:20260419T172956
Description:
END:VEVENT
END:VCALENDAR
