BEGIN:VCALENDAR
VERSION:2.0
PRODID:-//www.gramonet.cz//GramonetCalLib 1.0//EN
CALSCALE:GREGORIAN
METHOD:PUBLISH
BEGIN:VEVENT
SUMMARY:Rockový festival
LOCATION:Gumárna
DTSTART:20220820T000000
DTEND:20220821T000000
UID:2026-04-19-19-32-59@infocaslav.cz
DTSTAMP:20260419T173259
Description:
END:VEVENT
END:VCALENDAR
