BEGIN:VCALENDAR
VERSION:2.0
PRODID:-//www.gramonet.cz//GramonetCalLib 1.0//EN
CALSCALE:GREGORIAN
METHOD:PUBLISH
BEGIN:VEVENT
SUMMARY:Rockový festival
LOCATION:Nádvoří Pivovaru
DTSTART:20240608T000000
DTEND:20240609T000000
UID:2026-04-19-21-07-00@infocaslav.cz
DTSTAMP:20260419T190700
Description:Srdečně vás zveme na Rockový festival\, který se bude kona
 t 8.6 na nádvoří Pivovaru  v Čáslavi. Občerstvení zajištěno.
END:VEVENT
END:VCALENDAR
