BEGIN:VCALENDAR
VERSION:2.0
PRODID:-//www.gramonet.cz//GramonetCalLib 1.0//EN
CALSCALE:GREGORIAN
METHOD:PUBLISH
BEGIN:VEVENT
SUMMARY:Rodeo – Ranč Dalu Kozohlody
LOCATION:Kozohlody
DTSTART:20220806T000000
DTEND:20220807T000000
UID:2026-04-19-19-33-52@infocaslav.cz
DTSTAMP:20260419T173352
Description:
END:VEVENT
END:VCALENDAR
