BEGIN:VCALENDAR
VERSION:2.0
PRODID:-//www.gramonet.cz//GramonetCalLib 1.0//EN
CALSCALE:GREGORIAN
METHOD:PUBLISH
BEGIN:VEVENT
SUMMARY:Rodič jako průvodce
LOCATION:Rodinné centrum Kopretina Čáslav
DTSTART:20260416T000000
DTEND:20260417T000000
UID:2026-04-19-19-26-40@infocaslav.cz
DTSTAMP:20260419T172640
Description:
END:VEVENT
END:VCALENDAR
