BEGIN:VCALENDAR
VERSION:2.0
PRODID:-//www.gramonet.cz//GramonetCalLib 1.0//EN
CALSCALE:GREGORIAN
METHOD:PUBLISH
BEGIN:VEVENT
SUMMARY:Románské kostely v Záboří nad Labem a v Jakubu u Kutné Hory -
  přednáška
LOCATION:Nová scéna Dusíkova divadla
DTSTART:20240910T000000
DTEND:20240911T000000
UID:2026-04-19-19-37-24@infocaslav.cz
DTSTAMP:20260419T173724
Description:Muzejní a vlastivědný spolek Včela Čáslavská Vás zve na
  přednášku Ing. arch. Karla Kibice\, Románské kostely v Záboří nad
  Labem a v Jakubu u Kutné Hory\, přednáška se koná dne 10. září 20
 24 od 17 hodin na Nové scéně Dusíkova divadla vstupné dobrovolné.
END:VEVENT
END:VCALENDAR
