BEGIN:VCALENDAR
VERSION:2.0
PRODID:-//www.gramonet.cz//GramonetCalLib 1.0//EN
CALSCALE:GREGORIAN
METHOD:PUBLISH
BEGIN:VEVENT
SUMMARY:Ronovský bál
LOCATION:Tělocvična ZŠ Ronov n. D.
DTSTART:20240302T000000
DTEND:20240303T000000
UID:2026-04-19-19-28-42@infocaslav.cz
DTSTAMP:20260419T172842
Description:
END:VEVENT
END:VCALENDAR
