BEGIN:VCALENDAR
VERSION:2.0
PRODID:-//www.gramonet.cz//GramonetCalLib 1.0//EN
CALSCALE:GREGORIAN
METHOD:PUBLISH
BEGIN:VEVENT
SUMMARY:Rostlinný bazar
LOCATION:Škola Kraskov
DTSTART:20240519T000000
DTEND:20240520T000000
UID:2026-04-19-21-02-28@infocaslav.cz
DTSTAMP:20260419T190228
Description:
END:VEVENT
END:VCALENDAR
