BEGIN:VCALENDAR
VERSION:2.0
PRODID:-//www.gramonet.cz//GramonetCalLib 1.0//EN
CALSCALE:GREGORIAN
METHOD:PUBLISH
BEGIN:VEVENT
SUMMARY:Rotterdamský studentský symfonický orchestr
LOCATION:NZM Kačina – Svatý Mikuláš 51
DTSTART:20240716T000000
DTEND:20240717T000000
UID:2026-04-19-19-34-14@infocaslav.cz
DTSTAMP:20260419T173414
Description:
END:VEVENT
END:VCALENDAR
