BEGIN:VCALENDAR
VERSION:2.0
PRODID:-//www.gramonet.cz//GramonetCalLib 1.0//EN
CALSCALE:GREGORIAN
METHOD:PUBLISH
BEGIN:VEVENT
SUMMARY:Rozsvícení vánočního stromečku
LOCATION:Náměstí Jana Žižky z Trocnova
DTSTART:20231203T000000
DTEND:20231204T000000
UID:2026-04-19-21-08-35@infocaslav.cz
DTSTAMP:20260419T190835
Description:
END:VEVENT
END:VCALENDAR
