BEGIN:VCALENDAR
VERSION:2.0
PRODID:-//www.gramonet.cz//GramonetCalLib 1.0//EN
CALSCALE:GREGORIAN
METHOD:PUBLISH
BEGIN:VEVENT
SUMMARY:Rytíři a rytířská kultura
LOCATION:Městské muzeum Čáslav
DTSTART:20240419T000000
DTEND:20241101T000000
UID:2026-04-19-19-36-54@infocaslav.cz
DTSTAMP:20260419T173654
Description:
END:VEVENT
END:VCALENDAR
