BEGIN:VCALENDAR
VERSION:2.0
PRODID:-//www.gramonet.cz//GramonetCalLib 1.0//EN
CALSCALE:GREGORIAN
METHOD:PUBLISH
BEGIN:VEVENT
SUMMARY:S teleobjektivem českou přírodou
LOCATION:Výstavní síň
DTSTART:20240116T000000
DTEND:20240212T000000
UID:2026-04-19-19-34-20@infocaslav.cz
DTSTAMP:20260419T173420
Description:
END:VEVENT
END:VCALENDAR
