BEGIN:VCALENDAR
VERSION:2.0
PRODID:-//www.gramonet.cz//GramonetCalLib 1.0//EN
CALSCALE:GREGORIAN
METHOD:PUBLISH
BEGIN:VEVENT
SUMMARY:SCANDAL BEAT
LOCATION:Pivnice Na Čeplově
DTSTART:20240628T000000
DTEND:20240629T000000
UID:2026-04-19-21-02-15@infocaslav.cz
DTSTAMP:20260419T190215
Description:Hudební skupina SCANDAL BEAT se na Vás těší již v pátek 
 28. 6. v Čáslavi v pivnici na Čeplově na Číně.
END:VEVENT
END:VCALENDAR
