BEGIN:VCALENDAR
VERSION:2.0
PRODID:-//www.gramonet.cz//GramonetCalLib 1.0//EN
CALSCALE:GREGORIAN
METHOD:PUBLISH
BEGIN:VEVENT
SUMMARY:SEAL TEAM: Pár správných tuleňů
LOCATION:
DTSTART:20220401T000000
DTEND:20220402T000000
UID:2026-04-19-19-35-56@infocaslav.cz
DTSTAMP:20260419T173556
Description:
END:VEVENT
END:VCALENDAR
