BEGIN:VCALENDAR
VERSION:2.0
PRODID:-//www.gramonet.cz//GramonetCalLib 1.0//EN
CALSCALE:GREGORIAN
METHOD:PUBLISH
BEGIN:VEVENT
SUMMARY:Sejdeme se na hřbitově
LOCATION:Květinkafé, Městský hřbitov Čáslav
DTSTART:20250125T000000
DTEND:20250126T000000
UID:2026-04-19-19-34-44@infocaslav.cz
DTSTAMP:20260419T173444
Description:
END:VEVENT
END:VCALENDAR
