BEGIN:VCALENDAR
VERSION:2.0
PRODID:-//www.gramonet.cz//GramonetCalLib 1.0//EN
CALSCALE:GREGORIAN
METHOD:PUBLISH
BEGIN:VEVENT
SUMMARY:Seminář Jak na tablet a chytrý telefon
LOCATION:Knihovna městského muzea, Kostelní náměstí 197/11
DTSTART:20220627T000000
DTEND:20220628T000000
UID:2026-04-19-19-36-18@infocaslav.cz
DTSTAMP:20260419T173618
Description:
END:VEVENT
END:VCALENDAR
