BEGIN:VCALENDAR
VERSION:2.0
PRODID:-//www.gramonet.cz//GramonetCalLib 1.0//EN
CALSCALE:GREGORIAN
METHOD:PUBLISH
BEGIN:VEVENT
SUMMARY:Senátor MUDr. Marek Hilšer – setkání a beseda
LOCATION:Klub Gumárna Bar K. Pazderského 2045, 28601 Čáslav-Nové Měst
 o, Česko
DTSTART:20220329T000000
DTEND:20220330T000000
UID:2026-04-19-19-35-16@infocaslav.cz
DTSTAMP:20260419T173516
Description:
END:VEVENT
END:VCALENDAR
