BEGIN:VCALENDAR
VERSION:2.0
PRODID:-//www.gramonet.cz//GramonetCalLib 1.0//EN
CALSCALE:GREGORIAN
METHOD:PUBLISH
BEGIN:VEVENT
SUMMARY:Seniorská středa
LOCATION:Národní zemědělské muzeum
DTSTART:20220907T000000
DTEND:20220908T000000
UID:2026-04-19-19-31-58@infocaslav.cz
DTSTAMP:20260419T173158
Description:
END:VEVENT
END:VCALENDAR
