BEGIN:VCALENDAR
VERSION:2.0
PRODID:-//www.gramonet.cz//GramonetCalLib 1.0//EN
CALSCALE:GREGORIAN
METHOD:PUBLISH
BEGIN:VEVENT
SUMMARY:Seniorská středa
LOCATION:Národní zemědělské muzeum Čáslav, Jeníkovská 1762
DTSTART:20220504T000000
DTEND:20220505T000000
UID:2026-04-19-21-04-07@infocaslav.cz
DTSTAMP:20260419T190407
Description:
END:VEVENT
END:VCALENDAR
