BEGIN:VCALENDAR
VERSION:2.0
PRODID:-//www.gramonet.cz//GramonetCalLib 1.0//EN
CALSCALE:GREGORIAN
METHOD:PUBLISH
BEGIN:VEVENT
SUMMARY:Seriál běhů do vrchu
LOCATION:Třemošnice, Libice N/D, Maleč, Bezděkov
DTSTART:20241207T000000
DTEND:20250223T000000
UID:2026-04-19-19-33-30@infocaslav.cz
DTSTAMP:20260419T173330
Description:
END:VEVENT
END:VCALENDAR
