BEGIN:VCALENDAR
VERSION:2.0
PRODID:-//www.gramonet.cz//GramonetCalLib 1.0//EN
CALSCALE:GREGORIAN
METHOD:PUBLISH
BEGIN:VEVENT
SUMMARY:Šermíři na Lichnici
LOCATION:Hrad Lichnice
DTSTART:20240820T000000
DTEND:20240826T000000
UID:2026-04-19-19-32-56@infocaslav.cz
DTSTAMP:20260419T173256
Description:
END:VEVENT
END:VCALENDAR
