BEGIN:VCALENDAR
VERSION:2.0
PRODID:-//www.gramonet.cz//GramonetCalLib 1.0//EN
CALSCALE:GREGORIAN
METHOD:PUBLISH
BEGIN:VEVENT
SUMMARY:Šesterák
LOCATION:Vlakové nádraží
DTSTART:20230705T000000
DTEND:20230706T000000
UID:2026-04-19-19-28-45@infocaslav.cz
DTSTAMP:20260419T172845
Description:
END:VEVENT
END:VCALENDAR
