BEGIN:VCALENDAR
VERSION:2.0
PRODID:-//www.gramonet.cz//GramonetCalLib 1.0//EN
CALSCALE:GREGORIAN
METHOD:PUBLISH
BEGIN:VEVENT
SUMMARY:Setkání při svíčkách
LOCATION:Evangelický kostel
DTSTART:20231210T000000
DTEND:20231211T000000
UID:2026-04-19-19-30-47@infocaslav.cz
DTSTAMP:20260419T173047
Description:Přijďte načerpat vánoční náladu v kostele od 16 hod.
END:VEVENT
END:VCALENDAR
