BEGIN:VCALENDAR
VERSION:2.0
PRODID:-//www.gramonet.cz//GramonetCalLib 1.0//EN
CALSCALE:GREGORIAN
METHOD:PUBLISH
BEGIN:VEVENT
SUMMARY:SETKÁNÍ S MICHAELOU SEVEROVOU
LOCATION:Dusíkovo divadlo Čáslav, Masarykova 194/36
DTSTART:20220607T000000
DTEND:20220608T000000
UID:2026-04-19-19-31-20@infocaslav.cz
DTSTAMP:20260419T173120
Description:
END:VEVENT
END:VCALENDAR
