BEGIN:VCALENDAR
VERSION:2.0
PRODID:-//www.gramonet.cz//GramonetCalLib 1.0//EN
CALSCALE:GREGORIAN
METHOD:PUBLISH
BEGIN:VEVENT
SUMMARY:Setkání s Mikulášem
LOCATION:Rodinné centrum Kopretina, Kostelní náměstí 186, Čáslav
DTSTART:20211203T000000
DTEND:20211204T000000
UID:2026-04-19-19-31-07@infocaslav.cz
DTSTAMP:20260419T173107
Description:
END:VEVENT
END:VCALENDAR
