BEGIN:VCALENDAR
VERSION:2.0
PRODID:-//www.gramonet.cz//GramonetCalLib 1.0//EN
CALSCALE:GREGORIAN
METHOD:PUBLISH
BEGIN:VEVENT
SUMMARY:Setkání s Václavem Vydrou
LOCATION:Dusíkovo divadlo Čáslav
DTSTART:20260218T000000
DTEND:20260219T000000
UID:2026-04-19-19-34-00@infocaslav.cz
DTSTAMP:20260419T173400
Description:
END:VEVENT
END:VCALENDAR
