BEGIN:VCALENDAR
VERSION:2.0
PRODID:-//www.gramonet.cz//GramonetCalLib 1.0//EN
CALSCALE:GREGORIAN
METHOD:PUBLISH
BEGIN:VEVENT
SUMMARY:Setkání v rámci čtenářské gramotnosti
LOCATION:Budova Gymnázia a Střední odborné školy pedagogické
DTSTART:20220127T000000
DTEND:20220128T000000
UID:2026-04-19-19-36-48@infocaslav.cz
DTSTAMP:20260419T173648
Description:
END:VEVENT
END:VCALENDAR
