BEGIN:VCALENDAR
VERSION:2.0
PRODID:-//www.gramonet.cz//GramonetCalLib 1.0//EN
CALSCALE:GREGORIAN
METHOD:PUBLISH
BEGIN:VEVENT
SUMMARY:Setkání
LOCATION:Gymnázium a Střední odborná škola pedagogická Čáslav, Masa
 rykova 248/24
DTSTART:20220526T000000
DTEND:20220527T000000
UID:2026-04-19-19-28-40@infocaslav.cz
DTSTAMP:20260419T172840
Description:
END:VEVENT
END:VCALENDAR
