BEGIN:VCALENDAR
VERSION:2.0
PRODID:-//www.gramonet.cz//GramonetCalLib 1.0//EN
CALSCALE:GREGORIAN
METHOD:PUBLISH
BEGIN:VEVENT
SUMMARY:Setkáním při jídle proti rasismu
LOCATION:Bašta za evangelickou farou
DTSTART:20240327T000000
DTEND:20240328T000000
UID:2026-04-19-19-34-14@infocaslav.cz
DTSTAMP:20260419T173414
Description:
END:VEVENT
END:VCALENDAR
