BEGIN:VCALENDAR
VERSION:2.0
PRODID:-//www.gramonet.cz//GramonetCalLib 1.0//EN
CALSCALE:GREGORIAN
METHOD:PUBLISH
BEGIN:VEVENT
SUMMARY:Sibyl
LOCATION:Kino Miloše Formana, Jeníkovská 138/25, 28601
DTSTART:20220629T000000
DTEND:20220630T000000
UID:2026-04-19-21-01-20@infocaslav.cz
DTSTAMP:20260419T190120
Description:
END:VEVENT
END:VCALENDAR
