BEGIN:VCALENDAR
VERSION:2.0
PRODID:-//www.gramonet.cz//GramonetCalLib 1.0//EN
CALSCALE:GREGORIAN
METHOD:PUBLISH
BEGIN:VEVENT
SUMMARY:Silvestr na ledě
LOCATION:Zimní stadion Čáslav
DTSTART:20251231T000000
DTEND:20260101T000000
UID:2026-04-19-19-26-17@infocaslav.cz
DTSTAMP:20260419T172617
Description:
END:VEVENT
END:VCALENDAR
