BEGIN:VCALENDAR
VERSION:2.0
PRODID:-//www.gramonet.cz//GramonetCalLib 1.0//EN
CALSCALE:GREGORIAN
METHOD:PUBLISH
BEGIN:VEVENT
SUMMARY:Silvestr nanečisto
LOCATION:Restaurace Česká koruna
DTSTART:20231229T000000
DTEND:20231230T000000
UID:2026-04-19-19-32-54@infocaslav.cz
DTSTAMP:20260419T173254
Description:
END:VEVENT
END:VCALENDAR
