BEGIN:VCALENDAR
VERSION:2.0
PRODID:-//www.gramonet.cz//GramonetCalLib 1.0//EN
CALSCALE:GREGORIAN
METHOD:PUBLISH
BEGIN:VEVENT
SUMMARY:SK Slavoj Čáslav
LOCATION:Jeníkovsko
DTSTART:20220119T000000
DTEND:20220120T000000
UID:2026-04-19-19-34-00@infocaslav.cz
DTSTAMP:20260419T173400
Description:Zimní jeníkovsko  odjezd 9:07 návrat 14:09
END:VEVENT
END:VCALENDAR
